BEGIN:VCALENDAR
PRODID:-//eluceo/ical//2.0/EN
VERSION:2.0
CALSCALE:GREGORIAN
BEGIN:VEVENT
UID:2353f2ee41220e6cb017b3222b984339
DTSTAMP:20260423T024853Z
SUMMARY:Publication Full-Year Results 2025/26
DTSTART:20260517T220000Z
DTEND:20260518T215900Z
END:VEVENT
END:VCALENDAR
